BEGIN:VCALENDAR
VERSION:2.0
PRODID:-//hacksw/handcal//NONSGML v1.0//EN
BEGIN:VEVENT
DTSTAMP:20250812T170000Z
DTSTART:20250812T170000Z
DTEND:20250812T170000Z
LOCATION:Küppersbierstube, Nikolaus-Knopp-Platz 29, Düsseldorf, 40549, Deutschland
SUMMARY:Ein Abend mit Dr. Stephan Keller 
END:VEVENT
END:VCALENDAR
