BEGIN:VCALENDAR
VERSION:2.0
PRODID:-//hacksw/handcal//NONSGML v1.0//EN
BEGIN:VEVENT
DTSTAMP:20241118T160000Z
DTSTART:20241118T160000Z
DTEND:20241118T160000Z
LOCATION:Geschäftsstelle CDU-Ratsfraktion,  Marktplatz 3, Düsseldorf, 40213, Deutschland
SUMMARY:Fraktionsvorstand – nichtöffentliche Sitzung –
END:VEVENT
END:VCALENDAR
