BEGIN:VCALENDAR
VERSION:2.0
PRODID:-//hacksw/handcal//NONSGML v1.0//EN
BEGIN:VEVENT
DTSTAMP:20210625T120000Z
DTSTART:20210625T120000Z
DTEND:20210625T120000Z
LOCATION:Kunstpalast, Robert-Schumann-Saal, Ehrenhof 4-5, Düsseldorf, 40479, Deutschland
SUMMARY:Kulturausschuss - nichtöffentliche Sitzung -
END:VEVENT
END:VCALENDAR
