BEGIN:VCALENDAR
VERSION:2.0
PRODID:-//hacksw/handcal//NONSGML v1.0//EN
BEGIN:VEVENT
DTSTAMP:20211126T090000Z
DTSTART:20211126T090000Z
DTEND:20211126T090000Z
LOCATION:Rathaus - Plenarsaal, Marktplatz 2, Düsseldorf, 40213, Deutschland
SUMMARY:Seniorenrat
END:VEVENT
END:VCALENDAR
