BEGIN:VCALENDAR
VERSION:2.0
PRODID:-//hacksw/handcal//NONSGML v1.0//EN
BEGIN:VEVENT
DTSTAMP:20210118T163000Z
DTSTART:20210118T163000Z
DTEND:20210118T163000Z
LOCATION:Rathaus - Sitzungssaal 1.OG, Marktplatz 2, Düsseldorf, Deutschland
SUMMARY:Gesamtfraktion – nichtöffentliche Sitzung –
END:VEVENT
END:VCALENDAR
