BEGIN:VCALENDAR
VERSION:2.0
PRODID:-//hacksw/handcal//NONSGML v1.0//EN
BEGIN:VEVENT
DTSTAMP:20211129T140000Z
DTSTART:20211129T140000Z
DTEND:20211129T140000Z
LOCATION:Rathaus - Penarsaal, Marktplatz 2, Düsseldorf, 40213, Deutschland
SUMMARY:Ausschuss für Wohnungswesen und Modernisierung
END:VEVENT
END:VCALENDAR
